BEGIN:VCALENDAR
VERSION:2.0
PRODID:-//wp-events-plugin.com//7.2.3.1//EN
BEGIN:VEVENT
UID:6@seidotimaru.co.nz
DTSTART:20251107T210000Z
DTEND:20251108T000000Z
DTSTAMP:20251005T054318Z
URL:https://seidotimaru.co.nz/events/nidan-2nd-dan-black-belt-grading/
SUMMARY:Nidan (2nd Dan) Black Belt Grading
DESCRIPTION:Nidan black belt grading\, Saturday 8th November 2025\, startin
 g 9am.\n\nBlack belt attendance only.\nOsu
ATTACH;FMTTYPE=image/jpeg:https://seidotimaru.co.nz/wp-content/uploads/202
 3/10/198144657_264370612148206_3321754557191257708_n.jpg
LOCATION:Seido Timaru Dojo\, 32 High Street\, Parkside\, Timaru\, Canterbur
 y\, 7910\, Canterbury\, New Zealand
X-APPLE-STRUCTURED-LOCATION;VALUE=URI;X-ADDRESS=32 High Street\, Parkside\,
  Timaru\, Canterbury\, 7910\, Canterbury\, New Zealand;X-APPLE-RADIUS=100;
 X-TITLE=Seido Timaru Dojo:geo:0,0
END:VEVENT
END:VCALENDAR